BEGIN:VCALENDAR
VERSION:2.0
PRODID:-//ChamberMaster//Event Calendar 2.0//EN
METHOD:PUBLISH
X-PUBLISHED-TTL:P3D
REFRESH-INTERVAL:P3D
CALSCALE:GREGORIAN
BEGIN:VEVENT
DTSTART;VALUE=DATE:20260505
DTEND;VALUE=DATE:20260507
TRANSP:TRANSPARENT
X-MICROSOFT-CDO-ALLDAYEVENT:TRUE
SUMMARY:2026 Catoosa Golf Classic Raffle
DESCRIPTION:Prize Winning Tickets will be drawn on Tuesday\, May 5\, at the Catoosa Golf Classic. \n	You do NOT need to be present to win. (one ticket will be drawn for each prize)\n	Prizes can be picked up at the Chamber Office beginning Wednesday\, May 6th at 11am. \n	\n		(Sorry\, we will not mail or deliver the prizes.)\n	\n	\n	Tickets are $5 each or 5 for $20\n	One ticket equals one chance to win one item listed.
X-ALT-DESC;FMTTYPE=text/html:<ul style="box-sizing: border-box\; margin: 0px 0px 1rem\; padding-right: 0px\; padding-left: 0px\; list-style: none\; outline: 0px\; color: rgb(112\, 112\, 112)\; font-family: Arial\, Helvetica\, sans-serif\; font-size: 16px\;">\n	<li style="box-sizing: border-box\; margin: 0px\;"><span style="box-sizing: border-box\; color: rgb(0\, 0\, 255)\;">Prize Winning Tickets will be drawn on Tuesday\, May 5\,&nbsp\;at the Catoosa Golf Classic.&nbsp\;</span></li>\n	<li style="box-sizing: border-box\; margin: 0px\;"><span style="box-sizing: border-box\; color: rgb(0\, 0\, 255)\;">You do NOT need to be present to win. (one&nbsp\;ticket will be drawn for each prize)</span></li>\n	<li style="box-sizing: border-box\; margin: 0px\;"><span style="box-sizing: border-box\; color: rgb(0\, 0\, 255)\;">Prizes can be picked up at the Chamber Office beginning&nbsp\;Wednesday\, May 6th&nbsp\;at 11am.&nbsp\;</span>\n	<ul style="box-sizing: border-box\; margin: 0px\; padding-right: 0px\; padding-left: 0px\; list-style: none\;">\n		<li style="box-sizing: border-box\; margin: 0px\;"><span style="box-sizing: border-box\; color: rgb(0\, 0\, 255)\;">(Sorry\, we will not mail or deliver the prizes.)</span></li>\n	</ul>\n	</li>\n	<li style="box-sizing: border-box\; margin: 0px\;"><span style="box-sizing: border-box\; color: rgb(0\, 0\, 255)\;">Tickets are&nbsp\;$5 each or 5 for $20</span></li>\n	<li style="box-sizing: border-box\; margin: 0px\; outline: 0px\;"><span style="box-sizing: border-box\; color: rgb(0\, 0\, 255)\;">One ticket equals one chance to win one item listed.</span></li>\n</ul>\n
LOCATION:Drawing will take place during the Catoosa Golf Classic at Windstone Golf Club.
UID:e.730.230159
SEQUENCE:3
DTSTAMP:20260420T172924Z
URL:https://business.catoosachamberofcommerce.com/events/details/2026-catoosa-golf-classic-raffle-230159
END:VEVENT

END:VCALENDAR
